Workbook
Name ACC: #REF!
Name Acquisto_Servizi: OFFSET(#REF!,1,0,COUNTA(#REF!)-1,43)
Name AmbitiTariffariElenco: OFFSET(#REF!,1,0,COUNT(#REF!),50)
Name ATO_tutte: #REF!
Name attività: #REF!
Name Bacini_Tariffari_Comuni: OFFSET(#REF!,1,0,COUNTA(#REF!)-1,4)
Name Bacini_Tariffari_Ricavi: OFFSET(#REF!,0,0,COUNTA(#REF!)-2,13)
Name BaciniTariffariElenco: OFFSET(#REF!,1,0,COUNTA(#REF!)-1,6)
Name cap_ds: #REF!
Name CARC: #REF!
Name cat_imm_nuovi_inv: #REF!
Name Cat_Immobilizzazione: #REF!
Name CategorieCespiti: #REF!
Name CCD: #REF!
Name cespiti_proprietari: OFFSET(#REF!,0,0,COUNTA(#REF!)-1,54)
Name CGG: #REF!
Name COal: #REF!
Name Codice_ARERA: #REF!
Name col_ACC: #REF!
Name col_CARC: #REF!
Name col_CCD: #REF!
Name col_CGG: #REF!
Name col_COal: #REF!
Name col_CRD: #REF!
Name col_CRT: #REF!
Name col_CSL: #REF!
Name col_CTR: #REF!
Name col_CTS: #REF!
Name ComIntestazione: #REF!
Name comp: 'Elenco analitico costi 2025'!$AB$39:$AE$48
Name comp: 'Elenco analitico costi 2024'!$AB$39:$AE$48
Name component: 'Elenco analitico costi 2024'!$G$31
Name Componente: INDEX(comp_costo8[],,MATCH('Elenco analitico costi 2025'!XFD1,'Elenco analitico costi 2025'!Tipo_costo, 0))
Name Componente: INDEX(comp_costo[],,MATCH('Elenco analitico costi 2024'!XFD1,[0]!Tipo_costo, 0))
Name Componente: INDEX(comp_costo[],,MATCH('Elenco analitico costi 2024'!XFD1,[0]!Tipo_costo, 0))
Name Componente: INDEX(comp_costo[],,MATCH('Elenco analitico costi 2024'!XFD1,Tipo_costo, 0))
Name Componente_dinamica: INDEX(componenti,,MATCH(#REF!,Comuni, 0))
Name Componente_dinamica_subentro: INDEX(componenti_subentro,,MATCH(#REF!,comuni_subentro, 0))
Name componenti: #REF!
Name componenti_subentro: #REF!
Name Comuni: #REF!
Name Comuni_ATO_elenco: OFFSET(#REF!,0,0,COUNTA(#REF!)-1,1)
Name comuni_subentro: #REF!
Name Corrispettivi_Proprietari: OFFSET(#REF!,0,0,COUNTA(#REF!)-1,29)
Name costo_sotteso: #REF!
Name CRD: #REF!
Name crono_gestionale: OFFSET(#REF!,1,0,COUNTA(#REF!)-1,28)
Name crono_investimenti: OFFSET(#REF!,1,0,COUNTA(#REF!)-1,63)
Name crono_pos: OFFSET(#REF!,1,0,COUNTA(#REF!)-1,COUNTA(#REF!))
Name CRT: #REF!
Name CSL: #REF!
Name CTR: #REF!
Name CTS: #REF!
Name DaCancellare: #REF!,#REF!,#REF!,#REF!,#REF!,#REF!,#REF!,#REF!,#REF!,#REF!,#REF!,#REF!,#REF!,#REF!,#REF!,#REF!,#REF!,#REF!,#REF!,#REF!,#REF!,#REF!
Name Dismissioni: OFFSET(#REF!,1,0,COUNTA(#REF!)-2,32)
Name elenco: #REF!
Name Elenco_Cespiti: INDEX(Categoria_Cespite[],,IN_Cespiti!XFB1)
Name Elenco_Cespiti: INDEX(Categoria_Cespite[],,IN_Cespiti!XFB1)
Name Elenco_Cespiti: INDEX(Categoria_Cespite[],,IN_Cespiti!XFB1)
Name Elenco_Cespiti: INDEX(Categoria_Cespite[],,IN_Cespiti!XFB1)

Sheet IN_Anagrafica
B1: Dati di input: Anagrafica operatori | O1: Legenda
P2: Cella da compilare
B3: Anagrafica 2026-2029 | P3: Cella con scelta da menu a tendina
O4: =IFERROR(VLOOKUP(B72,'Tab Gestori'!$E:$F,2,0),"") | P4: Cella bloccata
D5: Denominazione Ambito tariffario | G5: Regime Tariffario | P5: Cella non valorizzata
C6: Ambito tariffario | D6: Bagaladi | G6: TARI
N7: Attività regolate oggetto di affidamento
D8: Denominazione Gestori | G8: Partiva IVA gestore/ Codice ISTAT Comune | H8: ID ARERA | I8: Tipologia di affidamento [selezionare da menu a tendina la tipologia di affidamento] | J8: Gara ai sensi della del 596/2024/R/rif (SI/NO) | K8: Tipologia di offerta in caso di gara ai sensi dell'art. 9 dell'Allegato A del. 596/2024/R/rif | L8: Inizio affidamento (gg/mm/aaaa) | M8: Scadenza affidamento (gg/mm/aaaa) | N8: Spazzamento e Lavaggio Strade (SI/NO) | O8: Raccolta e trasporto dei rifiuti urbani (SI/NO) | P8: Trattamento e Recupero dei rifiuti urbani (SI/NO) | Q8: Trattamento e Smaltimento dei rifiuti urbani (SI/NO) | R8: Gestione tariffe e rapporti con gli utenti (SI/NO) | S8: Fuori perimetro (indicare eventuali attività fuori perimetro)
C9: Gestore 1 | H9: =IFERROR(VLOOKUP(G9,'Tab Gestori'!$E:$F,2,0),"")
C10: Gestore 2 | H10: =IFERROR(VLOOKUP(G10,'Tab Gestori'!$E:$F,2,0),"")
C11: Gestore 3 | H11: =IFERROR(VLOOKUP(G11,'Tab Gestori'!$E:$F,2,0),"")
C12: Comune | D12: =IF(+D6=0,"",D6) -> Bagaladi | G12: =IFERROR(VLOOKUP(D12,'Tab comuni'!$D$4:$E$260,2,FALSE),"") -> 80006 | H12: =IFERROR(VLOOKUP(D12,'Tab comuni'!$D$3:$F$407,3,0),"") -> 28151
I13: *Ai fini della compilazione del PEFA sono considerati affidamenti con gara sia gli affidamenti a terzi mediante procedura ad evidenza pubblica, sia affidamenti a società mista
C16: Richiesta dati relativi al canone contrattuale e corrispettivi erogati al gestore del servizio rifiuti
C19: Gestore | D19: Canone annualità 2024 | E19: Canone annualità 2025 | F19: Canone previsionale annualità 2026 | G19: Canone previsionale annualità 2026 | H19: Canone previsionale annualità 2027
C20: =IF(D9=0,"",D9)
C21: =IF(D10=0,"",D10)
C22: =IF(D11=0,"",D11)
D26: Criteri di aggiornamento del Canone
D27: Inserire nel box sottostante la descrizione delle clausole contrattuali relative alla revisione del canone: indicare i criteri di aggiornamento annuale previsti dal contratto vigente (es. indici ISTAT, parametri ARERA o formule di revisione prezzi).
C28: =IF(D9=0,"",D9)
C29: =IF(D10=0,"",D10)
C30: =IF(D11=0,"",D11)
C36: Dati di input di competenza dell'ETC: Livelli di qualità, obiettivi, schema regolatorio e coefficienti - periodo regolatorio 2026-2029
C38: Efficienza della gestione (anno-2) e Valutazione livello di qualità raggiunta nelle annualità (a-2) rispetto all'anno (a) del PEF
D41: Percentuale Raccolta Differenziata %RD (2024) | E41: Quantità di rifiuti prodotti [ton]: qa-2 (2024)
C46: Referenti
D50: Nome | G50: Mail | H50: Telefono | I50: Servizio
C51: Referente 1
C52: Referente 2
C53: Referente 3
C54: Referente 4

Sheet Foglio1
F5: Dato input ( da compilare)
F7: Menu a tendina
F9: Formula

Sheet Elenco analitico costi 2024
B1: Dati di input: DETTAGLIO RICAVI E IMPEGNI DI SPESA DEL COMUNE - ANNO 2024
B3: =CONCATENATE("","Elenco analitico costi: ", IN_Anagrafica!D6) -> Elenco analitico costi: Bagaladi
B5: Ricavi
B7: Descrizione ricavo | E7: Voce CEE | G7: Origine ricavo | I7: Importo (euro) (IVA esclusa) | J7: IVA (euro) | K7: Totale | L7: Note
B8: Entrate Tariffarie Anno A-2 | E8: A1) Ricavi delle vendite e delle prestazioni | K8: =SUM(I8:J8) -> 0
K9: =SUM(I9:J9) -> 0
K10: =SUM(I10:J10) -> 0
K11: =SUM(I11:J11) -> 0
K12: =SUM(I12:J12) -> 0
K13: =SUM(I13:J13) -> 0
K14: =SUM(I14:J14) -> 0
K15: =SUM(I15:J15) -> 0
K16: =SUM(I16:J16) -> 0
K17: =SUM(I17:J17) -> 0
K18: =SUM(I18:J18) -> 0
K19: =SUM(I19:J19) -> 0
K20: =SUM(I20:J20) -> 0
B27: Costi
B28: Descrizione spesa | C28: Riferimento capitolo di spesa | D28: Costo diretto/indiretto | E28: Voce CEE | F28: Categoria costo | G28: Componente tariffaria | H28: TV/TF | I28: Importo (euro) (IVA esclusa) | J28: IVA (euro) | K28: Totale | L28: Note (descrivere in particolare le modalità di attribuzione dei costi indiretti e/o comuni) | AB28: B6
F29: Costo operativo | H29: =IFERROR(VLOOKUP(G29,$AG$39:$AH$47,2,FALSE),"") | K29: =SUM(I29:J29) -> 0 | AB29: B7
F30: Costo operativo | H30: =IFERROR(VLOOKUP(G30,$AG$39:$AH$47,2,FALSE),"") | K30: =SUM(I30:J30) -> 0 | AB30: B8
F31: Costo operativo | H31: =IFERROR(VLOOKUP(G31,$AG$39:$AH$47,2,FALSE),"") | K31: =SUM(I31:J31) -> 0 | AB31: B9
F32: Costo operativo | H32: =IFERROR(VLOOKUP(G32,$AG$39:$AH$47,2,FALSE),"") | K32: =SUM(I32:J32) -> 0 | AB32: B10
F33: Costo operativo | H33: =IFERROR(VLOOKUP(G33,$AG$39:$AH$47,2,FALSE),"") | K33: =SUM(I33:J33) -> 0 | AB33: B11
F34: Costo operativo | H34: =IFERROR(VLOOKUP(G34,$AG$39:$AH$47,2,FALSE),"") | K34: =SUM(I34:J34) -> 0 | AB34: B14
F35: Costo operativo | H35: =IFERROR(VLOOKUP(G35,$AG$39:$AH$47,2,FALSE),"") | K35: =SUM(I35:J35) -> 0
F36: Costo operativo | H36: =IFERROR(VLOOKUP(G36,$AG$39:$AH$47,2,FALSE),"") | K36: =SUM(I36:J36) -> 0
F37: Costo operativo | H37: =IFERROR(VLOOKUP(G37,$AG$39:$AH$47,2,FALSE),"") | K37: =SUM(I37:J37) -> 0
F38: Costo operativo | H38: =IFERROR(VLOOKUP(G38,$AG$39:$AH$47,2,FALSE),"") | K38: =SUM(I38:J38) -> 0 | AB38: Costo operativo | AC38: Canone | AD38: Mutuo | AE38: Leasing
F39: Costo operativo | H39: =IFERROR(VLOOKUP(G39,$AG$39:$AH$47,2,FALSE),"") | K39: =SUM(I39:J39) -> 0 | AB39: CRTa | AC39: Proprietario 1 | AD39: Proprietario 1 | AE39: Leasing | AG39: CRTa | AH39: TV
F40: Costo operativo | H40: =IFERROR(VLOOKUP(G40,$AG$39:$AH$47,2,FALSE),"") | K40: =SUM(I40:J40) -> 0 | AB40: CTSa | AC40: Proprietario 2 | AD40: Proprietario 2 | AG40: CTSa | AH40: TV
F41: Costo operativo | H41: =IFERROR(VLOOKUP(G41,$AG$39:$AH$47,2,FALSE),"") | K41: =SUM(I41:J41) -> 0 | AB41: CTRa | AC41: Proprietario 3 | AD41: Proprietario 3 | AG41: CTRa | AH41: TV
F42: Costo operativo | H42: =IFERROR(VLOOKUP(G42,$AG$39:$AH$47,2,FALSE),"") | K42: =SUM(I42:J42) -> 0 | AB42: CRDa | AG42: CRDa | AH42: TV
F43: Costo operativo | H43: =IFERROR(VLOOKUP(G43,$AG$39:$AH$47,2,FALSE),"") | K43: =SUM(I43:J43) -> 0 | AB43: CSLa | AG43: CSLa | AH43: TF
F44: Costo operativo | H44: =IFERROR(VLOOKUP(G44,$AG$39:$AH$47,2,FALSE),"") | K44: =SUM(I44:J44) -> 0 | AB44: CARCa | AG44: CARCa | AH44: TF
F45: Costo operativo | H45: =IFERROR(VLOOKUP(G45,$AG$39:$AH$47,2,FALSE),"") | K45: =SUM(I45:J45) -> 0 | AB45: CGGa | AG45: CGGa | AH45: TF
F46: Costo operativo | H46: =IFERROR(VLOOKUP(G46,$AG$39:$AH$47,2,FALSE),"") | K46: =SUM(I46:J46) -> 0 | AB46: CCDa | AG46: CCDa | AH46: TF
F47: Costo operativo | H47: =IFERROR(VLOOKUP(G47,$AG$39:$AH$47,2,FALSE),"") | K47: =SUM(I47:J47) -> 0 | AB47: COAL,a | AG47: COAL,a | AH47: TF
F48: Costo operativo | H48: =IFERROR(VLOOKUP(G48,$AG$39:$AH$47,2,FALSE),"") | K48: =SUM(I48:J48) -> 0
F49: Costo operativo | H49: =IFERROR(VLOOKUP(G49,$AG$39:$AH$47,2,FALSE),"") | K49: =SUM(I49:J49) -> 0
...

Sheet Elenco analitico costi 2025
B1: Dati di input: DETTAGLIO RICAVI E IMPEGNI DI SPESA DEL COMUNE - ANNO 2025
B3: =CONCATENATE("","Elenco analitico costi: ", IN_Anagrafica!D6) -> Elenco analitico costi: Bagaladi
B5: Ricavi
B7: Descrizione Ricavo | E7: Voce CEE | G7: Origine ricavo | H7: Importo (euro) (IVA esclusa) | I7: IVA (euro) | K7: Totale | L7: Note
B8: Entrate Tariffarie Anno A-2 | E8: A1) Ricavi delle vendite e delle prestazioni | K8: =SUM(H8:J8) -> 0
K9: =SUM(H9:J9) -> 0
K10: =SUM(H10:J10) -> 0
K11: =SUM(H11:J11) -> 0
K12: =SUM(H12:J12) -> 0
K13: =SUM(H13:J13) -> 0
K14: =SUM(H14:J14) -> 0
K15: =SUM(H15:J15) -> 0
K16: =SUM(H16:J16) -> 0
K17: =SUM(H17:J17) -> 0
K18: =SUM(H18:J18) -> 0
K19: =SUM(H19:J19) -> 0
K20: =SUM(H20:J20) -> 0
B27: Costi
B28: Descrizione spesa | C28: Riferimento capitolo di spesa | D28: Costo diretto/indiretto | E28: Voce CEE | F28: Categoria costo | G28: Componente tariffaria | H28: TV/TF | I28: Importo (euro) (IVA esclusa) | J28: IVA (euro) | K28: Totale | L28: Note (descrivere in particolare le modalità di attribuzione dei costi indiretti e/o comuni) | AB28: B6
F29: Costo operativo | H29: =IFERROR(VLOOKUP(G29,$AG$39:$AH$47,2,FALSE),"") | K29: =SUM(I29:J29) -> 0 | AB29: B7
F30: Costo operativo | H30: =IFERROR(VLOOKUP(G30,$AG$39:$AH$47,2,FALSE),"") | K30: =SUM(I30:J30) -> 0 | AB30: B8
F31: Costo operativo | H31: =IFERROR(VLOOKUP(G31,$AG$39:$AH$47,2,FALSE),"") | K31: =SUM(I31:J31) -> 0 | AB31: B9
F32: Costo operativo | H32: =IFERROR(VLOOKUP(G32,$AG$39:$AH$47,2,FALSE),"") | K32: =SUM(I32:J32) -> 0 | AB32: B10
F33: Costo operativo | H33: =IFERROR(VLOOKUP(G33,$AG$39:$AH$47,2,FALSE),"") | K33: =SUM(I33:J33) -> 0 | AB33: B11
F34: Costo operativo | H34: =IFERROR(VLOOKUP(G34,$AG$39:$AH$47,2,FALSE),"") | K34: =SUM(I34:J34) -> 0 | AB34: B14
F35: Costo operativo | H35: =IFERROR(VLOOKUP(G35,$AG$39:$AH$47,2,FALSE),"") | K35: =SUM(I35:J35) -> 0
F36: Costo operativo | H36: =IFERROR(VLOOKUP(G36,$AG$39:$AH$47,2,FALSE),"") | K36: =SUM(I36:J36) -> 0
F37: Costo operativo | H37: =IFERROR(VLOOKUP(G37,$AG$39:$AH$47,2,FALSE),"") | K37: =SUM(I37:J37) -> 0
F38: Costo operativo | H38: =IFERROR(VLOOKUP(G38,$AG$39:$AH$47,2,FALSE),"") | K38: =SUM(I38:J38) -> 0 | AB38: Costo operativo | AC38: Canone | AD38: Mutuo | AE38: Leasing
F39: Costo operativo | H39: =IFERROR(VLOOKUP(G39,$AG$39:$AH$47,2,FALSE),"") | K39: =SUM(I39:J39) -> 0 | AB39: CRTa | AC39: Proprietario 1 | AD39: Proprietario 1 | AE39: Leasing | AG39: CRTa | AH39: TV
F40: Costo operativo | H40: =IFERROR(VLOOKUP(G40,$AG$39:$AH$47,2,FALSE),"") | K40: =SUM(I40:J40) -> 0 | AB40: CTSa | AC40: Proprietario 2 | AD40: Proprietario 2 | AG40: CTSa | AH40: TV
F41: Costo operativo | H41: =IFERROR(VLOOKUP(G41,$AG$39:$AH$47,2,FALSE),"") | K41: =SUM(I41:J41) -> 0 | AB41: CTRa | AC41: Proprietario 3 | AD41: Proprietario 3 | AG41: CTRa | AH41: TV
F42: Costo operativo | H42: =IFERROR(VLOOKUP(G42,$AG$39:$AH$47,2,FALSE),"") | K42: =SUM(I42:J42) -> 0 | AB42: CRDa | AG42: CRDa | AH42: TV
F43: Costo operativo | H43: =IFERROR(VLOOKUP(G43,$AG$39:$AH$47,2,FALSE),"") | K43: =SUM(I43:J43) -> 0 | AB43: CSLa | AG43: CSLa | AH43: TF
F44: Costo operativo | H44: =IFERROR(VLOOKUP(G44,$AG$39:$AH$47,2,FALSE),"") | K44: =SUM(I44:J44) -> 0 | AB44: CARCa | AG44: CARCa | AH44: TF
F45: Costo operativo | H45: =IFERROR(VLOOKUP(G45,$AG$39:$AH$47,2,FALSE),"") | K45: =SUM(I45:J45) -> 0 | AB45: CGGa | AG45: CGGa | AH45: TF
F46: Costo operativo | H46: =IFERROR(VLOOKUP(G46,$AG$39:$AH$47,2,FALSE),"") | K46: =SUM(I46:J46) -> 0 | AB46: CCDa | AG46: CCDa | AH46: TF
F47: Costo operativo | H47: =IFERROR(VLOOKUP(G47,$AG$39:$AH$47,2,FALSE),"") | K47: =SUM(I47:J47) -> 0 | AB47: COAL,a | AG47: COAL,a | AH47: TF
F48: Costo operativo | H48: =IFERROR(VLOOKUP(G48,$AG$39:$AH$47,2,FALSE),"") | K48: =SUM(I48:J48) -> 0
F49: Costo operativo | H49: =IFERROR(VLOOKUP(G49,$AG$39:$AH$47,2,FALSE),"") | K49: =SUM(I49:J49) -> 0
...

Sheet IN_RC_ANT
B1: Dati di input - Controllo Costi Previsionali ANTICIPAZIONI 2024-2025
B3: Controllo costi previsionali 2024-2025
B4: Costi previsionali valorizzati nelle annualità 2024-2025
B6: Valori previsionali inseriti nel PEF | C6: 2024 | G6: 2025
B7: Costi previsionali parte variabile | C7: =+IN_Anagrafica!$D$9 -> 0 | D7: =+IN_Anagrafica!$D$10 -> 0 | E7: =+IN_Anagrafica!$D$11 -> 0 | F7: =+IN_Anagrafica!$D$12 -> Bagaladi | G7: =+C7 -> 0 | H7: =+D7 -> 0 | I7: =+E7 -> 0 | J7: =+F7 -> Bagaladi
B8: CTS∆,expTV,a
B9: COexp,116,TV,a
B10: CQexpTV,a
B11: COANTTV,a
B14: Valori previsionali inseriti nel PEF | C14: 2024 | G14: 2025
B15: Costi previsionali parte fissa | C15: =+C$7 -> 0 | D15: =+D$7 -> 0 | E15: =+E$7 -> 0 | F15: =+F$7 -> Bagaladi | G15: =+G$7 -> 0 | H15: =+H$7 -> 0 | I15: =+I$7 -> 0 | J15: =+J$7 -> Bagaladi
B16: COexp,116,TF,a
B17: CQexpTF,a
B18: COANTTF,a
B21: Costi effettivamente sostenuti nelle annualità 2024-2025
B23: Valori da bilancio di esercizio | C23: 2024 | G23: 2025
B24: Valori effettivamente sostenuti parte variabile | C24: =+C$7 -> 0 | D24: =+D$7 -> 0 | E24: =+E$7 -> 0 | F24: =+F$7 -> Bagaladi | G24: =+G$7 -> 0 | H24: =+H$7 -> 0 | I24: =+I$7 -> 0 | J24: =+J$7 -> Bagaladi
B25: CTS∆TV,a
B26: CO116,TV,a
B27: CQTV,a
B28: COANTTV,a
B31: Valori da bilancio di esercizio | C31: 2024 | G31: 2025
B32: Valori effettivamente sostenuti parte fissa | C32: =+C$7 -> 0 | D32: =+D$7 -> 0 | E32: =+E$7 -> 0 | F32: =+F$7 -> Bagaladi | G32: =+G$7 -> 0 | H32: =+H$7 -> 0 | I32: =+I$7 -> 0 | J32: =+J$7 -> Bagaladi
B33: CO116,TF,a
B34: CQTF,a
B37: Determinazione Poste Rettificative e componenti a conguaglio legate ai CTS∆ - Compilabili in fase di aggiornamento biennale
B44: Determinazione Poste Rettificative e componenti a conguaglio legate ai CO116
K46: 2026 | O46: 2027
B47: Calcolo Poste Rettificative e Componente a conguaglio CO116 | K47: =+IN_Anagrafica!$D$9 -> 0 | L47: =+IN_Anagrafica!$D$10 -> 0 | M47: =+IN_Anagrafica!$D$11 -> 0 | N47: =+IN_Anagrafica!$D$12 -> Bagaladi | O47: =+IN_Anagrafica!$D$9 -> 0 | P47: =+IN_Anagrafica!$D$10 -> 0 | Q47: =+IN_Anagrafica!$D$11 -> 0 | R47: =+IN_Anagrafica!$D$12 -> Bagaladi
B48: Posta rettificativa legata ai CO116 TV (art. 8.3 MTR-3) | K48: =+C26*(-1) -> 0 | L48: =+D26*(-1) -> 0 | M48: =+E26*(-1) -> 0 | N48: =+F26*(-1) -> 0 | O48: =+G26*(-1) -> 0 | P48: =+H26*(-1) -> 0 | Q48: =+I26*(-1) -> 0 | R48: =+J26*(-1) -> 0
B49: Posta rettificativa legata ai CO116 TF (art. 8.3 MTR-3) | K49: =+C33*(-1) -> 0 | L49: =+D33*(-1) -> 0 | M49: =+E33*(-1) -> 0 | N49: =+F33*(-1) -> 0 | O49: =+G33*(-1) -> 0 | P49: =+H33*(-1) -> 0 | Q49: =+I33*(-1) -> 0 | R49: =+J33*(-1) -> 0
B50: Totale Poste Rettificative CO116 | K50: =+SUM(K48:K49) -> 0 | L50: =+SUM(L48:L49) -> 0 | M50: =+SUM(M48:M49) -> 0 | N50: =+SUM(N48:N49) -> 0 | O50: =+SUM(O48:O49) -> 0 | P50: =+SUM(P48:P49) -> 0 | Q50: =+SUM(Q48:Q49) -> 0 | R50: =+SUM(R48:R49) -> 0
B51: Componente a conguaglio - quota variabile | K51: =+(C9-C26)*(-1) -> 0 | L51: =(D9-D26)*(-1) -> 0 | M51: =(E9-E26)*(-1) -> 0 | N51: =(F9-F26)*(-1) -> 0 | O51: =(G9-G26)*(-1) -> 0 | P51: =(H9-H26)*(-1) -> 0 | Q51: =(I9-I26)*(-1) -> 0 | R51: =(J9-J26)*(-1) -> 0
B52: Componente a conguaglio - quota fissa | K52: =(C16-C33)*(-1) -> 0 | L52: =(D16-D33)*(-1) -> 0 | M52: =(E16-E33)*(-1) -> 0 | N52: =(F16-F33)*(-1) -> 0 | O52: =+(G16-G33)*(-1) -> 0 | P52: =(H16-H33)*(-1) -> 0 | Q52: =(I16-I33)*(-1) -> 0 | R52: =(J16-J33)*(-1) -> 0
B53: Totale Componente a conguaglio | K53: =+SUM(K51:K52) -> 0 | L53: =+SUM(L51:L52) -> 0 | M53: =+SUM(M51:M52) -> 0 | N53: =+SUM(N51:N52) -> 0 | O53: =+SUM(O51:O52) -> 0 | P53: =+SUM(P51:P52) -> 0 | Q53: =+SUM(Q51:Q52) -> 0 | R53: =+SUM(R51:R52) -> 0
B55: Determinazione Poste Rettificative e componenti a conguaglio legate ai CQ
K57: 2026 | O57: 2027
B58: Calcolo Poste Rettificative e Componente a conguaglio CQ a favore utenza | K58: =+IN_Anagrafica!$D$9 -> 0 | L58: =+IN_Anagrafica!$D$10 -> 0 | M58: =+IN_Anagrafica!$D$11 -> 0 | N58: =+IN_Anagrafica!$D$12 -> Bagaladi | O58: =+IN_Anagrafica!$D$9 -> 0 | P58: =+IN_Anagrafica!$D$10 -> 0 | Q58: =+IN_Anagrafica!$D$11 -> 0 | R58: =+IN_Anagrafica!$D$12 -> Bagaladi
B59: Posta rettificativa legata ai CQ TV (art. 8.3 MTR-3) | K59: =+C27*(-1) -> 0 | L59: =+D27*(-1) -> 0 | M59: =+E27*(-1) -> 0 | N59: =+F27*(-1) -> 0 | O59: =+G27*(-1) -> 0 | P59: =+H27*(-1) -> 0 | Q59: =+I27*(-1) -> 0 | R59: =+J27*(-1) -> 0
B60: Posta rettificativa legata ai CQ TF (art. 8.3 MTR-3) | K60: =+C34*(-1) -> 0 | L60: =+D34*(-1) -> 0 | M60: =+E34*(-1) -> 0 | N60: =+F34*(-1) -> 0 | O60: =+G34*(-1) -> 0 | P60: =+H34*(-1) -> 0 | Q60: =+I34*(-1) -> 0 | R60: =+J34*(-1) -> 0
...

Sheet IN_RC_CO_INC
B1: Dati di input - Controllo Costi Previsionali Incentivanti valorizzati nell'aggiornamento delle predisposizioni tariffarie 2024-2025
B4: Sintesi Poste Rettificative e Conguagli relativi ai COI per gestore ai fini della determinazione del PEF 2026-2029
C6: 2024 | D6: 2024 | E6: 2024 | F6: 2024 | G6: 2025 | H6: 2025 | I6: 2025 | J6: 2025
C7: 2026 | G7: 2027 | L7: Nota: La compilazione avviene in modo automatico, una volta compilata la Tabella presente alla riga 35
B8: Calcolo Poste Rettificative e Componente a conguaglio COI a favore utenza | C8: =+IN_Anagrafica!$D$9 -> 0 | D8: =+IN_Anagrafica!$D$10 -> 0 | E8: =+IN_Anagrafica!$D$11 -> 0 | F8: =+IN_Anagrafica!$D$12 -> Bagaladi | G8: =+IN_Anagrafica!$D$10 -> 0 | H8: =+IN_Anagrafica!$D$9 -> 0 | I8: =+IN_Anagrafica!$D$11 -> 0 | J8: =+IN_Anagrafica!$D$12 -> Bagaladi
B9: Posta rettificativa legata ai COITV (art. 8.3 MTR-3) | C9: =+SUMIFS($L$37:$L$97,$B$37:$B$97,C$8,$C$37:$C$97,C$6) -> 0 | D9: =+SUMIFS($L$37:$L$97,$B$37:$B$97,D$8,$C$37:$C$97,D$6) -> 0 | E9: =+SUMIFS($L$37:$L$97,$B$37:$B$97,E$8,$C$37:$C$97,E$6) -> 0 | F9: =+SUMIFS($L$37:$L$97,$B$37:$B$97,F$8,$C$37:$C$97,F$6) -> 0 | G9: =+SUMIFS($L$37:$L$97,$B$37:$B$97,G$8,$C$37:$C$97,G$6) -> 0 | H9: =+SUMIFS($L$37:$L$97,$B$37:$B$97,H$8,$C$37:$C$97,H$6) -> 0 | I9: =+SUMIFS($L$37:$L$97,$B$37:$B$97,I$8,$C$37:$C$97,I$6) -> 0 | J9: =+SUMIFS($L$37:$L$97,$B$37:$B$97,J$8,$C$37:$C$97,J$6) -> 0
B10: Posta rettificativa legata ai COI TF (art. 8.3 MTR-3) | C10: =+SUMIFS($M$37:$M$97,$B$37:$B$97,C$8,$C$37:$C$97,C$6) -> 0 | D10: =+SUMIFS($M$37:$M$97,$B$37:$B$97,D$8,$C$37:$C$97,D$6) -> 0 | E10: =+SUMIFS($M$37:$M$97,$B$37:$B$97,E$8,$C$37:$C$97,E$6) -> 0 | F10: =+SUMIFS($M$37:$M$97,$B$37:$B$97,F$8,$C$37:$C$97,F$6) -> 0 | G10: =+SUMIFS($M$37:$M$97,$B$37:$B$97,G$8,$C$37:$C$97,G$6) -> 0 | H10: =+SUMIFS($M$37:$M$97,$B$37:$B$97,H$8,$C$37:$C$97,H$6) -> 0 | I10: =+SUMIFS($M$37:$M$97,$B$37:$B$97,I$8,$C$37:$C$97,I$6) -> 0 | J10: =+SUMIFS($M$37:$M$97,$B$37:$B$97,J$8,$C$37:$C$97,J$6) -> 0
B11: Totale Poste Rettificative COI | C11: =+SUM(C9:C10) -> 0 | D11: =+SUM(D9:D10) -> 0 | E11: =+SUM(E9:E10) -> 0 | F11: =+SUM(F9:F10) -> 0 | G11: =+SUM(G9:G10) -> 0 | H11: =+SUM(H9:H10) -> 0 | I11: =+SUM(I9:I10) -> 0 | J11: =+SUM(J9:J10) -> 0
B12: Componente a conguaglio a favore Utenza - quota variabile | C12: =+SUMIFS($O$37:$O$97,$B$37:$B$97,C$8,$C$37:$C$97,C$6) -> 0 | D12: =+SUMIFS($O$37:$O$97,$B$37:$B$97,D$8,$C$37:$C$97,D$6) -> 0 | E12: =+SUMIFS($O$37:$O$97,$B$37:$B$97,E$8,$C$37:$C$97,E$6) -> 0 | F12: =+SUMIFS($O$37:$O$97,$B$37:$B$97,F$8,$C$37:$C$97,F$6) -> 0 | G12: =+SUMIFS($O$37:$O$97,$B$37:$B$97,G$8,$C$37:$C$97,G$6) -> 0 | H12: =+SUMIFS($O$37:$O$97,$B$37:$B$97,H$8,$C$37:$C$97,H$6) -> 0 | I12: =+SUMIFS($O$37:$O$97,$B$37:$B$97,I$8,$C$37:$C$97,I$6) -> 0 | J12: =+SUMIFS($O$37:$O$97,$B$37:$B$97,J$8,$C$37:$C$97,J$6) -> 0
B13: Componente a conguaglio a favore Utenza - quota fissa | C13: =+SUMIFS($P$37:$P$97,$B$37:$B$97,C$8,$C$37:$C$97,C$6) -> 0 | D13: =+SUMIFS($P$37:$P$97,$B$37:$B$97,D$8,$C$37:$C$97,D$6) -> 0 | E13: =+SUMIFS($P$37:$P$97,$B$37:$B$97,E$8,$C$37:$C$97,E$6) -> 0 | F13: =+SUMIFS($P$37:$P$97,$B$37:$B$97,F$8,$C$37:$C$97,F$6) -> 0 | G13: =+SUMIFS($P$37:$P$97,$B$37:$B$97,G$8,$C$37:$C$97,G$6) -> 0 | H13: =+SUMIFS($P$37:$P$97,$B$37:$B$97,H$8,$C$37:$C$97,H$6) -> 0 | I13: =+SUMIFS($P$37:$P$97,$B$37:$B$97,I$8,$C$37:$C$97,I$6) -> 0 | J13: =+SUMIFS($P$37:$P$97,$B$37:$B$97,J$8,$C$37:$C$97,J$6) -> 0
B14: Totale Componente a conguaglio | C14: =+SUM(C12:C13) -> 0 | D14: =+SUM(D12:D13) -> 0 | E14: =+SUM(E12:E13) -> 0 | F14: =+SUM(F12:F13) -> 0 | G14: =+SUM(G12:G13) -> 0 | H14: =+SUM(H12:H13) -> 0 | I14: =+SUM(I12:I13) -> 0 | J14: =+SUM(J12:J13) -> 0
B18: Poste rettificative connesse ai COI da considerare nel calcolo dell'indicatore H
B20: I dati di input relativi alle singole componenti tariffarie inserite nei vari fogli IN_BIL sono già al netto delle poste rettificative di cui all'art. 8.3 del MTR-3; pertanto, ai fini del calcolo dell'indicatore H di partenza, laddove siano stati valorizzati costi previsionali per le annualità 2024, è necessario indicare la percentuale di costi attribuibili alla componente CRDsc_si che è stata scomputata come posta rettificativa. Tale valore verrà automaticamente sommato nelle celle C41 e C49 del foglio IN_calcolo H
C22: 2026
C23: =+IN_Anagrafica!$D$9 -> 0 | D23: =+IN_Anagrafica!$D$10 -> 0 | E23: =+IN_Anagrafica!$D$11 -> 0 | F23: =+IN_Anagrafica!$D$12 -> Bagaladi
B24: quota parte delle poste rettificative relative ai COI attribuibile a CRDsc_si (esprimere una percentuale)
C26: 2026
B27: Poste rettificative relative attribuibili al CRDsc_si | C27: =+IN_Anagrafica!$D$10 -> 0 | D27: =+IN_Anagrafica!$D$9 -> 0 | E27: =+IN_Anagrafica!$D$11 -> 0 | F27: =+IN_Anagrafica!$D$12 -> Bagaladi
B28: Totale poste rettificative legate ai Costi incentivanti attribuibili al CRDsc_si | C28: =+IN_RC_CO_INC!C24*IN_RC_CO_INC!C11*(-1) -> 0 | D28: =+IN_RC_CO_INC!D24*IN_RC_CO_INC!D11*(-1) -> 0 | E28: =+IN_RC_CO_INC!E24*IN_RC_CO_INC!E11*(-1) -> 0 | F28: =+IN_RC_CO_INC!F24*IN_RC_CO_INC!F11*(-1) -> 0
B32: Compilare la seguente tabella per COI valorizzati nelle annualità 2024 e 2025
D35: Valori previsionali inseriti nei PEF 2024-2025 agg | F35: Valori da bilancio di esercizio 2024-2025 - Costi effettivamente sostenuti | H35: Verifica del raggiungimento degli obiettivi | J35: In caso di obiettivo non raggiunto, indicare la distanza tra obiettivo fissato e obiettivo raggiunto (in % <100%) | L35: Calcolo Poste Rettificative (art. 8.3 MTR-3) da apportare ai costi riconosciuti 2024-2025 per il calcolo delle entrate tariffarie 2026-2029 | O35: Calcolo Conguagli (artt. 19 e 20 MTR-3)
B36: Gestore che ha valorizzato i COI nelle annualità 2024-2025 | C36: Anno PEF [2024-2025] | D36: COIexpTV,a | E36: COIexpTF,a | F36: COITV,a | G36: COITF,a | H36: obiettivo legato ai COITV raggiunto? (SI/NO) | I36: obiettivo legato ai COITF raggiunto? (SI/NO) | J36: Distanza obiettivo fissato e obiettivo raggiunto (in % <100% | K36: Distanza obiettivo fissato e obiettivo raggiunto (in % <100% | L36: Posta rettificativa legata ai COITV | M36: Posta rettificativa legata ai COITF | N36: Totale Poste Rettificative COI | O36: Componente a conguaglio a favore Utenza - quota variabile | P36: Componente a conguaglio a favore Utenza - quota fissa | Q36: Totale Conguaglio COI
L37: =+F37*(-1) -> 0 | M37: =+G37*(-1) -> 0 | N37: =+L37+M37 -> 0 | O37: =+IF(AND(H37="NO",D37>F37),(D37-F37)*J37*(-1),0) -> 0 | P37: =+IF(AND(I37="NO",E37>G37),(E37-G37)*K37*(-1),0) -> 0 | Q37: =+O37+P37 -> 0
L38: =+F38*(-1) -> 0 | M38: =+G38*(-1) -> 0 | N38: =+L38+M38 -> 0 | O38: =+IF(AND(H38="NO",D38>F38),(D38-F38)*J38*(-1),0) -> 0 | P38: =+IF(AND(I38="NO",E38>G38),(E38-G38)*K38*(-1),0) -> 0 | Q38: =+O38+P38 -> 0
L39: =+F39*(-1) -> 0 | M39: =+G39*(-1) -> 0 | N39: =+L39+M39 -> 0 | O39: =+IF(AND(H39="NO",D39>F39),(D39-F39)*J39*(-1),0) -> 0 | P39: =+IF(AND(I39="NO",E39>G39),(E39-G39)*K39*(-1),0) -> 0 | Q39: =+O39+P39 -> 0
L40: =+F40*(-1) -> 0 | M40: =+G40*(-1) -> 0 | N40: =+L40+M40 -> 0 | O40: =+IF(AND(H40="NO",D40>F40),(D40-F40)*J40*(-1),0) -> 0 | P40: =+IF(AND(I40="NO",E40>G40),(E40-G40)*K40*(-1),0) -> 0 | Q40: =+O40+P40 -> 0
L41: =+F41*(-1) -> 0 | M41: =+G41*(-1) -> 0 | N41: =+L41+M41 -> 0 | O41: =+IF(AND(H41="NO",D41>F41),(D41-F41)*J41*(-1),0) -> 0 | P41: =+IF(AND(I41="NO",E41>G41),(E41-G41)*K41*(-1),0) -> 0 | Q41: =+O41+P41 -> 0
L42: =+F42*(-1) -> 0 | M42: =+G42*(-1) -> 0 | N42: =+L42+M42 -> 0 | O42: =+IF(AND(H42="NO",D42>F42),(D42-F42)*J42*(-1),0) -> 0 | P42: =+IF(AND(I42="NO",E42>G42),(E42-G42)*K42*(-1),0) -> 0 | Q42: =+O42+P42 -> 0
L43: =+F43*(-1) -> 0 | M43: =+G43*(-1) -> 0 | N43: =+L43+M43 -> 0 | O43: =+IF(AND(H43="NO",D43>F43),(D43-F43)*J43*(-1),0) -> 0 | P43: =+IF(AND(I43="NO",E43>G43),(E43-G43)*K43*(-1),0) -> 0 | Q43: =+O43+P43 -> 0
L44: =+F44*(-1) -> 0 | M44: =+G44*(-1) -> 0 | N44: =+L44+M44 -> 0 | O44: =+IF(AND(H44="NO",D44>F44),(D44-F44)*J44*(-1),0) -> 0 | P44: =+IF(AND(I44="NO",E44>G44),(E44-G44)*K44*(-1),0) -> 0 | Q44: =+O44+P44 -> 0
L45: =+F45*(-1) -> 0 | M45: =+G45*(-1) -> 0 | N45: =+L45+M45 -> 0 | O45: =+IF(AND(H45="NO",D45>F45),(D45-F45)*J45*(-1),0) -> 0 | P45: =+IF(AND(I45="NO",E45>G45),(E45-G45)*K45*(-1),0) -> 0 | Q45: =+O45+P45 -> 0
L46: =+F46*(-1) -> 0 | M46: =+G46*(-1) -> 0 | N46: =+L46+M46 -> 0 | O46: =+IF(AND(H46="NO",D46>F46),(D46-F46)*J46*(-1),0) -> 0 | P46: =+IF(AND(I46="NO",E46>G46),(E46-G46)*K46*(-1),0) -> 0 | Q46: =+O46+P46 -> 0
L47: =+F47*(-1) -> 0 | M47: =+G47*(-1) -> 0 | N47: =+L47+M47 -> 0 | O47: =+IF(AND(H47="NO",D47>F47),(D47-F47)*J47*(-1),0) -> 0 | P47: =+IF(AND(I47="NO",E47>G47),(E47-G47)*K47*(-1),0) -> 0 | Q47: =+O47+P47 -> 0
L48: =+F48*(-1) -> 0 | M48: =+G48*(-1) -> 0 | N48: =+L48+M48 -> 0 | O48: =+IF(AND(H48="NO",D48>F48),(D48-F48)*J48*(-1),0) -> 0 | P48: =+IF(AND(I48="NO",E48>G48),(E48-G48)*K48*(-1),0) -> 0 | Q48: =+O48+P48 -> 0
... L66: =+F66*(-1) -> 0 | M66: =+G66*(-1) -> 0 | N66: =+L66+M66 -> 0 | O66: =+IF(AND(H66="NO",D66>F66),(D66-F66)*J66*(-1),0) -> 0 | P66: =+IF(AND(I66="NO",E66>G66),(E66-G66)*K66*(-1),0) -> 0 | Q66: =+O66+P66 -> 0

Sheet Dettaglio CTS-CTR
B1: Dati di input - Conguagli CTSmin e CTRmin 2024 e 2025 (art.. 27.7 MTR-3) - Dettaglio CTS e CTR B7 di conto economico per annualità 2024 e 2025
B3: CONGUAGLIO CTSmin e CTRmin di cui all'art. 27.7 MTR-3
C5: 2024 | D5: =+C5 -> 2024 | E5: =+D5 -> 2024 | F5: =+E5 -> 2024 | G5: 2025 | H5: =+G5 -> 2025 | I5: =+H5 -> 2025 | J5: =+I5 -> 2025 | K5: 2024 | L5: =+K5 -> 2024 | M5: =+L5 -> 2024 | N5: =+M5 -> 2024 | O5: 2025 | P5: =+O5 -> 2025 | Q5: =+P5 -> 2025 | R5: =+Q5 -> 2025
C6: 2024 | G6: 2025 | K6: 2026 | O6: 2027
B7: Conguagli CTR (Cfr. 27.7) | C7: =+[1]IN_Anagrafica!$D$9 -> 0 | D7: =+[1]IN_Anagrafica!$D$10 -> 0 | E7: =+[1]IN_Anagrafica!$D$11 -> 0 | F7: =+[1]IN_Anagrafica!$D$12 -> 0 | G7: =+C7 -> 0 | H7: =+D7 -> 0 | I7: =+E7 -> 0 | J7: =+F7 -> 0 | K7: =+[1]IN_Anagrafica!$D$9 -> 0 | L7: =+[1]IN_Anagrafica!$D$10 -> 0 | M7: =+[1]IN_Anagrafica!$D$11 -> 0 | N7: =+[1]IN_Anagrafica!$D$12 -> 0 | O7: =+[1]IN_Anagrafica!$D$9 -> 0 | P7: =+[1]IN_Anagrafica!$D$10 -> 0 | Q7: =+[1]IN_Anagrafica!$D$11 -> 0 | R7: =+[1]IN_Anagrafica!$D$12 -> 0
A8: CTRmin | B8: CTRmin,riconosciuto | C8: =+SUMIFS($H$41:$H$218,$D$41:$D$218,$A8,$B$41:$B$218,C$7,$C$41:$C$218,C$5) -> 0 | D8: =+SUMIFS($H$41:$H$218,$D$41:$D$218,$A8,$B$41:$B$218,D$7,$C$41:$C$218,D$5) -> 0 | E8: =+SUMIFS($H$41:$H$218,$D$41:$D$218,$A8,$B$41:$B$218,E$7,$C$41:$C$218,E$5) -> 0 | F8: =+SUMIFS($H$41:$H$218,$D$41:$D$218,$A8,$B$41:$B$218,F$7,$C$41:$C$218,F$5) -> 0 | G8: =+SUMIFS($H$41:$H$218,$D$41:$D$218,$A8,$B$41:$B$218,G$7,$C$41:$C$218,G$5) -> 0 | H8: =+SUMIFS($H$41:$H$218,$D$41:$D$218,$A8,$B$41:$B$218,H$7,$C$41:$C$218,H$5) -> 0 | I8: =+SUMIFS($H$41:$H$218,$D$41:$D$218,$A8,$B$41:$B$218,I$7,$C$41:$C$218,I$5) -> 0 | J8: =+SUMIFS($H$41:$H$218,$D$41:$D$218,$A8,$B$41:$B$218,J$7,$C$41:$C$218,J$5) -> 0
B9: CTRmin
B10: (CTRmin,riconosciuto-CTRmin)/CTRmin | C10: =+IFERROR((C8-C9)/C9,0) -> 0 | D10: =+IFERROR((D8-D9)/D9,0) -> 0 | E10: =+IFERROR((E8-E9)/E9,0) -> 0 | F10: =+IFERROR((F8-F9)/F9,0) -> 0 | G10: =+IFERROR((G8-G9)/G9,0) -> 0 | H10: =+IFERROR((H8-H9)/H9,0) -> 0 | I10: =+IFERROR((I8-I9)/I9,0) -> 0 | J10: =+IFERROR((J8-J9)/J9,0) -> 0
B11: RCCTR | K11: =+IF(ABS(C10)>0.03,C8-C9,0) -> 0 | L11: =+IF(ABS(D10)>0.03,D8-D9,0) -> 0 | M11: =+IF(ABS(E10)>0.03,E8-E9,0) -> 0 | N11: =+IF(ABS(F10)>0.03,F8-F9,0) -> 0 | O11: =+IF(ABS(G10)>0.03,G8-G9,0) -> 0 | P11: =+IF(ABS(H10)>0.03,H8-H9,0) -> 0 | Q11: =+IF(ABS(I10)>0.03,I8-I9,0) -> 0 | R11: =+IF(ABS(J10)>0.03,J8-J9,0) -> 0
C13: 2024 | G13: 2025 | K13: 2026 | O13: 2027
B14: Conguagli CTS (Cfr. 27.7) | C14: =+C7 -> 0 | D14: =+D7 -> 0 | E14: =+E7 -> 0 | F14: =+F7 -> 0 | G14: =+G7 -> 0 | H14: =+H7 -> 0 | I14: =+I7 -> 0 | J14: =+J7 -> 0 | K14: =+[1]IN_Anagrafica!$D$9 -> 0 | L14: =+[1]IN_Anagrafica!$D$10 -> 0 | M14: =+[1]IN_Anagrafica!$D$11 -> 0 | N14: =+[1]IN_Anagrafica!$D$12 -> 0 | O14: =+[1]IN_Anagrafica!$D$9 -> 0 | P14: =+[1]IN_Anagrafica!$D$10 -> 0 | Q14: =+[1]IN_Anagrafica!$D$11 -> 0 | R14: =+[1]IN_Anagrafica!$D$12 -> 0
A15: CTSmin | B15: CTSmin,riconosciuto | C15: =+SUMIFS($H$41:$H$218,$D$41:$D$218,$A15,$B$41:$B$218,C$7,$C$41:$C$218,C$5) -> 0 | D15: =+SUMIFS($H$41:$H$218,$D$41:$D$218,$A15,$B$41:$B$218,D$7,$C$41:$C$218,D$5) -> 0 | E15: =+SUMIFS($H$41:$H$218,$D$41:$D$218,$A15,$B$41:$B$218,E$7,$C$41:$C$218,E$5) -> 0 | F15: =+SUMIFS($H$41:$H$218,$D$41:$D$218,$A15,$B$41:$B$218,F$7,$C$41:$C$218,F$5) -> 0 | G15: =+SUMIFS($H$41:$H$218,$D$41:$D$218,$A15,$B$41:$B$218,G$7,$C$41:$C$218,G$5) -> 0 | H15: =+SUMIFS($H$41:$H$218,$D$41:$D$218,$A15,$B$41:$B$218,H$7,$C$41:$C$218,H$5) -> 0 | I15: =+SUMIFS($H$41:$H$218,$D$41:$D$218,$A15,$B$41:$B$218,I$7,$C$41:$C$218,I$5) -> 0 | J15: =+SUMIFS($H$41:$H$218,$D$41:$D$218,$A15,$B$41:$B$218,J$7,$C$41:$C$218,J$5) -> 0
B16: CTSmin
B17: (CTSmin,riconosciuto-CTSmin)/CTSmin | C17: =+IFERROR((C15-C16)/C16,0) -> 0 | D17: =+IFERROR((D15-D16)/D16,0) -> 0 | E17: =+IFERROR((E15-E16)/E16,0) -> 0 | F17: =+IFERROR((F15-F16)/F16,0) -> 0 | G17: =+IFERROR((G15-G16)/G16,0) -> 0 | H17: =+IFERROR((H15-H16)/H16,0) -> 0 | I17: =+IFERROR((I15-I16)/I16,0) -> 0 | J17: =+IFERROR((J15-J16)/J16,0) -> 0
B18: RCCTS | K18: =+IF(ABS(C17)>0.03,C15-C16,0) -> 0 | L18: =+IF(ABS(D17)>0.03,D15-D16,0) -> 0 | M18: =+IF(ABS(E17)>0.03,E15-E16,0) -> 0 | N18: =+IF(ABS(F17)>0.03,F15-F16,0) -> 0 | O18: =+IF(ABS(G17)>0.03,G15-G16,0) -> 0 | P18: =+IF(ABS(H17)>0.03,H15-H16,0) -> 0 | Q18: =+IF(ABS(I17)>0.03,I15-I16,0) -> 0 | R18: =+IF(ABS(J17)>0.03,J15-J16,0) -> 0
K20: 2026 | O20: 2027
K21: =+[1]IN_Anagrafica!$D$9 -> 0 | L21: =+[1]IN_Anagrafica!$D$10 -> 0 | M21: =+[1]IN_Anagrafica!$D$11 -> 0 | N21: =+[1]IN_Anagrafica!$D$12 -> 0 | O21: =+[1]IN_Anagrafica!$D$9 -> 0 | P21: =+[1]IN_Anagrafica!$D$10 -> 0 | Q21: =+[1]IN_Anagrafica!$D$11 -> 0 | R21: =+[1]IN_Anagrafica!$D$12 -> 0
B22: Totale RCCTR,CTS | K22: =+K11+K18 -> 0 | L22: =+L11+L18 -> 0 | M22: =+M11+M18 -> 0 | N22: =+N11+N18 -> 0 | O22: =+O11+O18 -> 0 | P22: =+P11+P18 -> 0 | Q22: =+Q11+Q18 -> 0 | R22: =+R11+R18 -> 0
B24: Dettaglio composizione CTS e CTR (Voce B7 CE)
C26: 2024 | G26: 2025
A27: Voce di bilancio | B27: Dettaglio Costi CTS e CTR 2024 - 2025 | C27: =+IN_Anagrafica!D9 -> 0 | D27: =+IN_Anagrafica!D10 -> 0 | E27: =+IN_Anagrafica!D11 -> 0 | F27: =+IN_Anagrafica!D12 -> Bagaladi | G27: =+C27 -> 0 | H27: =+D27 -> 0 | I27: =+E27 -> 0 | J27: =+F27 -> Bagaladi
A28: B7 | B28: CTRmin | C28: =+SUMIFS($H$41:$H$218,$D$41:$D$218,$B28,$B$41:$B$218,C$27,$C$41:$C$218,C$5) -> 0 | D28: =+SUMIFS($H$41:$H$218,$D$41:$D$218,$B28,$B$41:$B$218,D$27,$C$41:$C$218,D$5) -> 0 | E28: =+SUMIFS($H$41:$H$218,$D$41:$D$218,$B28,$B$41:$B$218,E$27,$C$41:$C$218,E$5) -> 0 | F28: =+SUMIFS($H$41:$H$218,$D$41:$D$218,$B28,$B$41:$B$218,F$27,$C$41:$C$218,F$5) -> 0 | G28: =+SUMIFS($H$41:$H$218,$D$41:$D$218,$B28,$B$41:$B$218,G$27,$C$41:$C$218,G$5) -> 0 | H28: =+SUMIFS($H$41:$H$218,$D$41:$D$218,$B28,$B$41:$B$218,H$27,$C$41:$C$218,H$5) -> 0 | I28: =+SUMIFS($H$41:$H$218,$D$41:$D$218,$B28,$B$41:$B$218,I$27,$C$41:$C$218,I$5) -> 0 | J28: =+SUMIFS($H$41:$H$218,$D$41:$D$218,$B28,$B$41:$B$218,J$27,$C$41:$C$218,J$5) -> 0
A29: B7 | B29: CTRaltro | C29: =+SUMIFS($H$41:$H$218,$D$41:$D$218,$B29,$B$41:$B$218,C$27,$C$41:$C$218,C$5) -> 0 | D29: =+SUMIFS($H$41:$H$218,$D$41:$D$218,$B29,$B$41:$B$218,D$27,$C$41:$C$218,D$5) -> 0 | E29: =+SUMIFS($H$41:$H$218,$D$41:$D$218,$B29,$B$41:$B$218,E$27,$C$41:$C$218,E$5) -> 0 | F29: =+SUMIFS($H$41:$H$218,$D$41:$D$218,$B29,$B$41:$B$218,F$27,$C$41:$C$218,F$5) -> 0 | G29: =+SUMIFS($H$41:$H$218,$D$41:$D$218,$B29,$B$41:$B$218,G$27,$C$41:$C$218,G$5) -> 0 | H29: =+SUMIFS($H$41:$H$218,$D$41:$D$218,$B29,$B$41:$B$218,H$27,$C$41:$C$218,H$5) -> 0 | I29: =+SUMIFS($H$41:$H$218,$D$41:$D$218,$B29,$B$41:$B$218,I$27,$C$41:$C$218,I$5) -> 0 | J29: =+SUMIFS($H$41:$H$218,$D$41:$D$218,$B29,$B$41:$B$218,J$27,$C$41:$C$218,J$5) -> 0
A30: B7 | B30: Costi B7 - CTR | C30: =IFERROR(VLOOKUP(#REF!,'Tab Gestori'!$E:$F,2,0),"") | D30: =IFERROR(VLOOKUP(#REF!,'Tab Gestori'!$E:$F,2,0),"") | E30: =IFERROR(VLOOKUP(#REF!,'Tab Gestori'!$E:$F,2,0),"") | G30: =IFERROR(VLOOKUP(#REF!,'Tab Gestori'!$E:$F,2,0),"") | H30: =IFERROR(VLOOKUP(#REF!,'Tab Gestori'!$E:$F,2,0),"") | I30: =IFERROR(VLOOKUP(#REF!,'Tab Gestori'!$E:$F,2,0),"")
A31: B7 | B31: Totale CTR - (B7) | C31: =+SUM(C28:C30) -> 0 | D31: =+SUM(D28:D30) -> 0 | E31: =+SUM(E28:E30) -> 0 | F31: =+SUM(F28:F30) -> 0 | G31: =+SUM(G28:G30) -> 0 | H31: =+SUM(H28:H30) -> 0 | I31: =+SUM(I28:I30) -> 0 | J31: =+SUM(J28:J30) -> 0
A32: B7 | B32: CTSmin | C32: =+SUMIFS($H$41:$H$218,$D$41:$D$218,$B32,$B$41:$B$218,C$27,$C$41:$C$218,C$5) -> 0 | D32: =+SUMIFS($H$41:$H$218,$D$41:$D$218,$B32,$B$41:$B$218,D$27,$C$41:$C$218,D$5) -> 0 | E32: =+SUMIFS($H$41:$H$218,$D$41:$D$218,$B32,$B$41:$B$218,E$27,$C$41:$C$218,E$5) -> 0 | F32: =+SUMIFS($H$41:$H$218,$D$41:$D$218,$B32,$B$41:$B$218,F$27,$C$41:$C$218,F$5) -> 0 | G32: =+SUMIFS($H$41:$H$218,$D$41:$D$218,$B32,$B$41:$B$218,G$27,$C$41:$C$218,G$5) -> 0 | H32: =+SUMIFS($H$41:$H$218,$D$41:$D$218,$B32,$B$41:$B$218,H$27,$C$41:$C$218,H$5) -> 0 | I32: =+SUMIFS($H$41:$H$218,$D$41:$D$218,$B32,$B$41:$B$218,I$27,$C$41:$C$218,I$5) -> 0 | J32: =+SUMIFS($H$41:$H$218,$D$41:$D$218,$B32,$B$41:$B$218,J$27,$C$41:$C$218,J$5) -> 0
A33: B7 | B33: CTSaltro | C33: =+SUMIFS($H$41:$H$218,$D$41:$D$218,$B33,$B$41:$B$218,C$27,$C$41:$C$218,C$5) -> 0 | D33: =+SUMIFS($H$41:$H$218,$D$41:$D$218,$B33,$B$41:$B$218,D$27,$C$41:$C$218,D$5) -> 0 | E33: =+SUMIFS($H$41:$H$218,$D$41:$D$218,$B33,$B$41:$B$218,E$27,$C$41:$C$218,E$5) -> 0 | F33: =+SUMIFS($H$41:$H$218,$D$41:$D$218,$B33,$B$41:$B$218,F$27,$C$41:$C$218,F$5) -> 0 | G33: =+SUMIFS($H$41:$H$218,$D$41:$D$218,$B33,$B$41:$B$218,G$27,$C$41:$C$218,G$5) -> 0 | H33: =+SUMIFS($H$41:$H$218,$D$41:$D$218,$B33,$B$41:$B$218,H$27,$C$41:$C$218,H$5) -> 0 | I33: =+SUMIFS($H$41:$H$218,$D$41:$D$218,$B33,$B$41:$B$218,I$27,$C$41:$C$218,I$5) -> 0 | J33: =+SUMIFS($H$41:$H$218,$D$41:$D$218,$B33,$B$41:$B$218,J$27,$C$41:$C$218,J$5) -> 0
A34: B7 | B34: Costi B7 - CTS | C34: =IFERROR(VLOOKUP(#REF!,'Tab Gestori'!$E:$F,2,0),"") | D34: =IFERROR(VLOOKUP(#REF!,'Tab Gestori'!$E:$F,2,0),"") | E34: =IFERROR(VLOOKUP(#REF!,'Tab Gestori'!$E:$F,2,0),"") | G34: =IFERROR(VLOOKUP(#REF!,'Tab Gestori'!$E:$F,2,0),"") | H34: =IFERROR(VLOOKUP(#REF!,'Tab Gestori'!$E:$F,2,0),"") | I34: =IFERROR(VLOOKUP(#REF!,'Tab Gestori'!$E:$F,2,0),"")
A35: B7 | B35: Totale CTS - (B7) | C35: =+SUM(C32:C34) -> 0 | D35: =+SUM(D32:D34) -> 0 | E35: =+SUM(E32:E34) -> 0 | F35: =+SUM(F32:F34) -> 0 | G35: =+SUM(G32:G34) -> 0 | H35: =+SUM(H32:H34) -> 0 | I35: =+SUM(I32:I34) -> 0 | J35: =+SUM(J32:J34) -> 0
B37: TABELLA Dettaglio flussi verso impianti minimi o aggiuntivi e relativi corrispettivi unitari
B40: Gestore che sostiene i costi di trattamento /recupero e costi di trattamento/ smaltimento | C40: Anno [2024-2025] | D40: Tipologia di Costo (scegliere da menu a tendina) | E40: Tipologia di rifiuto (scegliere da Menu a tendina) | F40: Quantitativi conferiti all'impianto (tonnellate) | G40: Corrispettivo unitario (€/t netto IVA) Cfr. art. 27.7 MTR-3 | H40: Totale Costi | I40: Tipologia impianto di destinazione (scegliere da menu a tendina) | J40: Gestore Impianto | K40: Partita IVA Gestore Impianto | L40: Comune sede Impianto | M40: Codice ISTAT Comune - sede impianto | N40: In caso di invio a impianto intermedio, indicare impianto di destinazione finale dei flussi in uscita | O40: Comune sede dell'impianto destinazione finale dei flussi in uscita da impianti intermedi | P40: NOTE
H41: =+F41*G41 -> 0
H42: =+F42*G42 -> 0
H43: =+F43*G43 -> 0
H44: =+F44*G44 -> 0
H45: =+F45*G45 -> 0
H46: =+F46*G46 -> 0
H47: =+F47*G47 -> 0
H48: =+F48*G48 -> 0
H49: =+F49*G49 -> 0
...

Sheet IN_Cespiti
B1: Dati di input - immobilizzazioni - Fino all'anno ANNO 2025
H3: TOTALE | I3: =+SUM(I8:I1048576) -> 0 | J3: =+SUM(J8:J1048576) -> 0 | K3: =+SUM(K8:K1048576) -> 0 | L3: =+SUM(L8:L1048576) -> 0
H4: subtotale | I4: =+SUBTOTAL(9,I8:I1048576) -> 0 | J4: =+SUBTOTAL(9,J8:J1048576) -> 0 | K4: =+SUBTOTAL(9,K8:K1048576) -> 0 | L4: =+SUBTOTAL(9,L8:L1048576) -> 0
I5: I valori devono essere inseriti al netto dell'IVA
B7: Comune/Gestore | C7: Cespiti gestore/Cespiti Proprietari diversi dal gestore | D7: ID Categoria Immobilizzazione | E7: Categoria immobilizzazione | F7: ID Categoria Cespite | G7: Categoria Cespiti Specifici | H7: Anno Cespite | I7: Cic,t | J7: FACI,c,2017 | K7: CFPc,t | L7: FACFP,c,2017 | M7: Discariche Vita Utile | O7: Anno dismissioni | Q7: Vite Utili c. 15.2 MTR-2 | R7: Variazioni vite utili regolatorie (c. 15.5 e c. 15.6 MTR-2) | S7: Inserire vita utile se si ricade negli c. 15.5 e c. 15.6 MTR-2 | T7: Vite utili c. 15.5 e c. 15.6 MTR-2
D8: =++IFERROR(INDEX(Tabelle!$H$11:$H$16,MATCH(IN_Cespiti!E8,Tabelle!$I$11:$I$16,0)),"") | F8: =++IFERROR(INDEX(Tabelle!$C$10:$C$44,MATCH(IN_Cespiti!G8,Tabelle!$E$10:$E$44,0)),"") | Q8: =IF($D8=3,$M8,+IFERROR(VLOOKUP(CONCATENATE(D8,".",F8),Tabelle!$D$10:$F$44,3,),"")) | T8: =+IF(R8="",Q8,+IF(R8=Tabelle!$B$83,IN_Cespiti!Q8,IF(OR(R8=Tabelle!$B$81,R8=Tabelle!$B$82),IN_Cespiti!S8,0)))
D9: =++IFERROR(INDEX(Tabelle!$H$11:$H$16,MATCH(IN_Cespiti!E9,Tabelle!$I$11:$I$16,0)),"") | F9: =++IFERROR(INDEX(Tabelle!$C$10:$C$44,MATCH(IN_Cespiti!G9,Tabelle!$E$10:$E$44,0)),"") | Q9: =IF($D9=3,$M9,+IFERROR(VLOOKUP(CONCATENATE(D9,".",F9),Tabelle!$D$10:$F$44,3,),"")) | T9: =+IF(R9="",Q9,+IF(R9=Tabelle!$B$83,IN_Cespiti!Q9,IF(OR(R9=Tabelle!$B$81,R9=Tabelle!$B$82),IN_Cespiti!S9,0)))
D10: =++IFERROR(INDEX(Tabelle!$H$11:$H$16,MATCH(IN_Cespiti!E10,Tabelle!$I$11:$I$16,0)),"") | F10: =++IFERROR(INDEX(Tabelle!$C$10:$C$44,MATCH(IN_Cespiti!G10,Tabelle!$E$10:$E$44,0)),"") | Q10: =IF($D10=3,$M10,+IFERROR(VLOOKUP(CONCATENATE(D10,".",F10),Tabelle!$D$10:$F$44,3,),"")) | T10: =+IF(R10="",Q10,+IF(R10=Tabelle!$B$83,IN_Cespiti!Q10,IF(OR(R10=Tabelle!$B$81,R10=Tabelle!$B$82),IN_Cespiti!S10,0)))
D11: =++IFERROR(INDEX(Tabelle!$H$11:$H$16,MATCH(IN_Cespiti!E11,Tabelle!$I$11:$I$16,0)),"") | F11: =++IFERROR(INDEX(Tabelle!$C$10:$C$44,MATCH(IN_Cespiti!G11,Tabelle!$E$10:$E$44,0)),"") | Q11: =IF($D11=3,$M11,+IFERROR(VLOOKUP(CONCATENATE(D11,".",F11),Tabelle!$D$10:$F$44,3,),"")) | T11: =+IF(R11="",Q11,+IF(R11=Tabelle!$B$83,IN_Cespiti!Q11,IF(OR(R11=Tabelle!$B$81,R11=Tabelle!$B$82),IN_Cespiti!S11,0)))
D12: =++IFERROR(INDEX(Tabelle!$H$11:$H$16,MATCH(IN_Cespiti!E12,Tabelle!$I$11:$I$16,0)),"") | F12: =++IFERROR(INDEX(Tabelle!$C$10:$C$44,MATCH(IN_Cespiti!G12,Tabelle!$E$10:$E$44,0)),"") | Q12: =IF($D12=3,$M12,+IFERROR(VLOOKUP(CONCATENATE(D12,".",F12),Tabelle!$D$10:$F$44,3,),"")) | T12: =+IF(R12="",Q12,+IF(R12=Tabelle!$B$83,IN_Cespiti!Q12,IF(OR(R12=Tabelle!$B$81,R12=Tabelle!$B$82),IN_Cespiti!S12,0)))
D13: =++IFERROR(INDEX(Tabelle!$H$11:$H$16,MATCH(IN_Cespiti!E13,Tabelle!$I$11:$I$16,0)),"") | F13: =++IFERROR(INDEX(Tabelle!$C$10:$C$44,MATCH(IN_Cespiti!G13,Tabelle!$E$10:$E$44,0)),"") | Q13: =IF($D13=3,$M13,+IFERROR(VLOOKUP(CONCATENATE(D13,".",F13),Tabelle!$D$10:$F$44,3,),"")) | T13: =+IF(R13="",Q13,+IF(R13=Tabelle!$B$83,IN_Cespiti!Q13,IF(OR(R13=Tabelle!$B$81,R13=Tabelle!$B$82),IN_Cespiti!S13,0)))
D14: =++IFERROR(INDEX(Tabelle!$H$11:$H$16,MATCH(IN_Cespiti!E14,Tabelle!$I$11:$I$16,0)),"") | F14: =++IFERROR(INDEX(Tabelle!$C$10:$C$44,MATCH(IN_Cespiti!G14,Tabelle!$E$10:$E$44,0)),"") | Q14: =IF($D14=3,$M14,+IFERROR(VLOOKUP(CONCATENATE(D14,".",F14),Tabelle!$D$10:$F$44,3,),"")) | T14: =+IF(R14="",Q14,+IF(R14=Tabelle!$B$83,IN_Cespiti!Q14,IF(OR(R14=Tabelle!$B$81,R14=Tabelle!$B$82),IN_Cespiti!S14,0)))
D15: =++IFERROR(INDEX(Tabelle!$H$11:$H$16,MATCH(IN_Cespiti!E15,Tabelle!$I$11:$I$16,0)),"") | F15: =++IFERROR(INDEX(Tabelle!$C$10:$C$44,MATCH(IN_Cespiti!G15,Tabelle!$E$10:$E$44,0)),"") | Q15: =IF($D15=3,$M15,+IFERROR(VLOOKUP(CONCATENATE(D15,".",F15),Tabelle!$D$10:$F$44,3,),"")) | T15: =+IF(R15="",Q15,+IF(R15=Tabelle!$B$83,IN_Cespiti!Q15,IF(OR(R15=Tabelle!$B$81,R15=Tabelle!$B$82),IN_Cespiti!S15,0)))
D16: =++IFERROR(INDEX(Tabelle!$H$11:$H$16,MATCH(IN_Cespiti!E16,Tabelle!$I$11:$I$16,0)),"") | F16: =++IFERROR(INDEX(Tabelle!$C$10:$C$44,MATCH(IN_Cespiti!G16,Tabelle!$E$10:$E$44,0)),"") | Q16: =IF($D16=3,$M16,+IFERROR(VLOOKUP(CONCATENATE(D16,".",F16),Tabelle!$D$10:$F$44,3,),"")) | T16: =+IF(R16="",Q16,+IF(R16=Tabelle!$B$83,IN_Cespiti!Q16,IF(OR(R16=Tabelle!$B$81,R16=Tabelle!$B$82),IN_Cespiti!S16,0)))
D17: =++IFERROR(INDEX(Tabelle!$H$11:$H$16,MATCH(IN_Cespiti!E17,Tabelle!$I$11:$I$16,0)),"") | F17: =++IFERROR(INDEX(Tabelle!$C$10:$C$44,MATCH(IN_Cespiti!G17,Tabelle!$E$10:$E$44,0)),"") | Q17: =IF($D17=3,$M17,+IFERROR(VLOOKUP(CONCATENATE(D17,".",F17),Tabelle!$D$10:$F$44,3,),"")) | T17: =+IF(R17="",Q17,+IF(R17=Tabelle!$B$83,IN_Cespiti!Q17,IF(OR(R17=Tabelle!$B$81,R17=Tabelle!$B$82),IN_Cespiti!S17,0)))
D18: =++IFERROR(INDEX(Tabelle!$H$11:$H$16,MATCH(IN_Cespiti!E18,Tabelle!$I$11:$I$16,0)),"") | F18: =++IFERROR(INDEX(Tabelle!$C$10:$C$44,MATCH(IN_Cespiti!G18,Tabelle!$E$10:$E$44,0)),"") | Q18: =IF($D18=3,$M18,+IFERROR(VLOOKUP(CONCATENATE(D18,".",F18),Tabelle!$D$10:$F$44,3,),"")) | T18: =+IF(R18="",Q18,+IF(R18=Tabelle!$B$83,IN_Cespiti!Q18,IF(OR(R18=Tabelle!$B$81,R18=Tabelle!$B$82),IN_Cespiti!S18,0)))
D19: =++IFERROR(INDEX(Tabelle!$H$11:$H$16,MATCH(IN_Cespiti!E19,Tabelle!$I$11:$I$16,0)),"") | F19: =++IFERROR(INDEX(Tabelle!$C$10:$C$44,MATCH(IN_Cespiti!G19,Tabelle!$E$10:$E$44,0)),"") | Q19: =IF($D19=3,$M19,+IFERROR(VLOOKUP(CONCATENATE(D19,".",F19),Tabelle!$D$10:$F$44,3,),"")) | T19: =+IF(R19="",Q19,+IF(R19=Tabelle!$B$83,IN_Cespiti!Q19,IF(OR(R19=Tabelle!$B$81,R19=Tabelle!$B$82),IN_Cespiti!S19,0)))
... D50: =++IFERROR(INDEX(Tabelle!$H$11:$H$16,MATCH(IN_Cespiti!E50,Tabelle!$I$11:$I$16,0)),"") | F50: =++IFERROR(INDEX(Tabelle!$C$10:$C$44,MATCH(IN_Cespiti!G50,Tabelle!$E$10:$E$44,0)),"") | Q50: =IF($D50=3,$M50,+IFERROR(VLOOKUP(CONCATENATE(D50,".",F50),Tabelle!$D$10:$F$44,3,),"")) | T50: =+IF(R50="",Q50,+IF(R50=Tabelle!$B$83,IN_Cespiti!Q50,IF(OR(R50=Tabelle!$B$81,R50=Tabelle!$B$82),IN_Cespiti!S50,0)))
B53: Si prega di copiare e incollare una riga compilata in caso di necessità

Sheet RC_Costi2024
C2: ANNO 2024
E3: Riepilogo Costi ARERA
C4: TITOLO V – SOSTENIBILITÀ FINANZIARIA EFFICIENTE | E4: Voce ARERA | F4: Importo effettivo 2024 | G4: Importo previsto | H4: Differenza (Conguagli Rc)
E5: COSTV | F5: =F16 -> 0
E6: COVTV | F6: =SUM(F22:F31) -> 0
E7: COVTF | F7: =SUM(F35:F44) -> 0
C8: Art. 18-20 - Conguagli relativi ai costi variabili e fissi | E8: COITV | F8: =SUM(F50:F59) -> 0 | G8: =SUM(G50:G59) -> 0 | H8: =SUM(H50:H59) -> 0
E9: COITF | F9: =SUM(F63:F72) -> 0 | G9: =SUM(G63:G72) -> 0 | H9: =SUM(H63:H72) -> 0
E10: Totale | F10: =SUM(F5:F9) -> 0 | G10: =SUM(G5:G9) -> 0 | H10: =SUM(H5:H9) -> 0
C47: Art. 19.1 - Lettera e) - COITV e Art. 20.1 - Lettera d) COITF
C48: ANNO 2024 COITV Valori imponibili senza IVA | D48: Costi effettivamente sostenuti con risorse proprie del Comune per il raggiungimento degli obiettivi (target) sottostanti, già ridotti di eventuali contributi in conto esercizio erogati da parte di Regione e/o altri Enti
D49: Descrizione | E49: ANNO | F49: Importo effettivo | G49: Importo previsto | H49: Differenza (Conguagli Rc)
E50: 2024 | H50: =F50-G50 -> 0
E51: 2024 | H51: =F51-G51 -> 0
E52: 2024 | H52: =F52-G52 -> 0
E53: 2024 | H53: =F53-G53 -> 0
E54: 2024 | H54: =F54-G54 -> 0
E55: 2024 | H55: =F55-G55 -> 0
E56: 2024 | H56: =F56-G56 -> 0
E57: 2024 | H57: =F57-G57 -> 0
E58: 2024 | H58: =F58-G58 -> 0
E59: 2024 | H59: =F59-G59 -> 0
C61: ANNO 2024 COITF Valori imponibili senza IVA | D61: Costi effettivamente sostenuti con risorse proprie del Comune per il raggiungimento degli obiettivi (target) sottostanti, già ridotti di eventuali contributi in conto esercizio erogati da parte di Comuni, Regione e/o altri Enti
D62: Descrizione | E62: ANNO | F62: Importo | G62: Importo previsto | H62: Differenza (Conguagli Rc)
E63: 2024 | H63: =F63-G63 -> 0
E64: 2024 | H64: =F64-G64 -> 0
E65: 2024 | H65: =F65-G65 -> 0
E66: 2024 | H66: =F66-G66 -> 0
E67: 2024 | H67: =F67-G67 -> 0
E68: 2024 | H68: =F68-G68 -> 0
E69: 2024 | H69: =F69-G69 -> 0
E70: 2024 | H70: =F70-G70 -> 0
E71: 2024 | H71: =F71-G71 -> 0
E72: 2024 | H72: =F72-G72 -> 0

Sheet RC_Fatt
B2: ANNO 2024
B4: TITOLO V – SOSTENIBILITÀ FINANZIARIA EFFICIENTE
B5: Art. 18-20 - Conguagli relativi ai costi variabili e fissi
C7: RCFATT Conguaglio entrate tariffarie Art. 19.1 - Lettera i) - ETTV e Art. 20.1 - Lettera g) ETTF ANNO 2024
C8: ETTV | D8: il recupero dello scostamento tra le entrate tariffarie variabili approvate per l’anno (a-2), qualora non coperte da ulteriori risorse disponibili, e quanto fatturato, per la parte variabile, con riferimento alla medesima annualità.
D9: Descrizione | E9: ANNO | F9: Importo Previsto
D10: Entrate tariffarie parte variabile approvate nei PEF 2024-2025 prima delle Detrazioni 1.4 [Riga 84 foglio PEF] | E10: 2024
D11: Descrizione | E11: ANNO | F11: Importo fatturato
D12: Ruolo TARI effettivo di competenza dell'anno 2024 emesso dal Comune per la parte variabile | E12: 2024
D13: Contributo MIUR percepito ai sensi del DL 248/07 | E13: 2024
D14: Entrate provenienti da attività di recupero dell’evasione | E14: 2024
D15: Entrate derivanti da procedure sanzionatorie | E15: 2024
D16: Ulteriori entrate approvate dall'ETC | E16: 2024
D17: Totale | F17: =SUM(F12:F16) -> 0
D18: Descrizione | E18: ANNO | F18: Differenza RC
D19: Componente a conguaglio RCFatt,TV | E19: 2024 | F19: =F10-F17 -> 0
C21: ETTF | D21: il recupero dello scostamento tra le entrate tariffarie fisse approvate per l’anno (a-2), qualora non coperte da ulteriori risorse disponibili, e quanto fatturato, per la parte fissa, con riferimento alla medesima annualità.
D22: Descrizione | E22: ANNO | F22: Importo Previsto
D23: Entrate tariffarie parte fissa approvate nei PEF 2024-2025 prima delle Detrazioni 1.4 [Riga 84 foglio PEF] | E23: 2024
D24: Descrizione | E24: ANNO | F24: Importo fatturato
D25: Ruolo TARI effettivo di competenza dell'anno 2024 emesso dal Comune per la parte fissa | E25: 2024
D26: Contributo MIUR percepito ai sensi del DL 248/07 | E26: 2024
D27: Entrate provenienti da attività di recupero dell’evasione | E27: 2024
D28: Entrate derivanti da procedure sanzionatorie | E28: 2024
D29: Ulteriori entrate approvate dall'ETC | E29: 2024
D30: Totale | F30: =SUM(F25:F29) -> 0
D31: Descrizione | E31: ANNO | F31: Differenza RC
D32: Componente a conguaglio RCFatt,TV | E32: 2024 | F32: =F23-F30 -> 0
B35: ANNO 2025
B37: TITOLO V – SOSTENIBILITÀ FINANZIARIA EFFICIENTE
B38: Art. 18-20 - Conguagli relativi ai costi variabili e fissi
C40: RCFATT Conguaglio entrate tariffarie Art. 19.1 - Lettera i) - ETTV e Art. 20.1 - Lettera g) ETTF ANNO 2024
C41: ETTV | D41: il recupero dello scostamento tra le entrate tariffarie variabili approvate per l’anno (a-2), qualora non coperte da ulteriori risorse disponibili, e quanto fatturato, per la parte variabile, con riferimento alla medesima annualità.
D42: Descrizione | E42: ANNO | F42: Importo Previsto
D43: Entrate tariffarie parte variabile approvate nei PEF 2024-2025 prima delle Detrazioni 1.4 [Riga 84 foglio PEF] | E43: 2024
D44: Descrizione | E44: ANNO | F44: Importo fatturato
D45: Ruolo TARI effettivo di competenza dell'anno 2024 emesso dal Comune per la parte variabile | E45: 2024
D46: Contributo MIUR percepito ai sensi del DL 248/07 | E46: 2024
D47: Entrate provenienti da attività di recupero dell’evasione | E47: 2024
D48: Entrate derivanti da procedure sanzionatorie | E48: 2024
...

Sheet IVA_Ind._2024_25
B2: ANNO 2024
B4: Descrizione | C4: Costi di Parte variabile (TV) | F4: Costi di Parte Fissa (TF)
C5: Imponibile | D5: IVA | E5: Totale | F5: Imponibile | G5: IVA | H5: Totale
B6: Imponibile e IVA su costi diretti del Comune | C6: =SUMIF('Elenco analitico costi 2024'!$H$29:$H$68,"TV",'Elenco analitico costi 2024'!$I$29:$I$68) -> 0 | D6: =SUMIF('Elenco analitico costi 2024'!$H$29:$H$68,"TV",'Elenco analitico costi 2024'!$J$29:$J$68) -> 0 | E6: =SUM(C6:D6) -> 0 | F6: =SUMIF('Elenco analitico costi 2024'!$H$29:$H$68,"TF",'Elenco analitico costi 2024'!$I$29:$I$68) -> 0 | G6: =SUMIF('Elenco analitico costi 2024'!$H$29:$H$68,"TF",'Elenco analitico costi 2024'!$J$29:$J$68) -> 0 | H6: =SUM(F6:G6) -> 0
B7: Imponibile e IVA su fatture emesse dal Gestore/Gestori | E7: =SUM(C7:D7) -> 0 | H7: =SUM(F7:G7) -> 0
B8: Totale IVA | C8: =+C6+C7 -> 0 | D8: =+D6+D7 -> 0 | E8: =+E6+E7 -> 0 | F8: =+F6+F7 -> 0 | G8: =+G6+G7 -> 0 | H8: =+H6+H7 -> 0
B12: ANNO 2025
B14: Descrizione | C14: Costi di Parte variabile (TV) | F14: Costi di Parte Fissa (TF)
C15: Imponibile | D15: IVA | E15: Totale | F15: Imponibile | G15: IVA | H15: Totale
B16: Imponibile e IVA su costi diretti del Comune | C16: =SUMIF('Elenco analitico costi 2025'!$H$29:$H$68,"TV",'Elenco analitico costi 2025'!$I$29:$I$68) -> 0 | D16: =SUMIF('Elenco analitico costi 2025'!$H$29:$H$68,"TV",'Elenco analitico costi 2025'!$J$29:$J$68) -> 0 | E16: =SUM(C16:D16) -> 0 | F16: =SUMIF('Elenco analitico costi 2025'!$H$29:$H$68,"TF",'Elenco analitico costi 2025'!$I$29:$I$68) -> 0 | G16: =SUMIF('Elenco analitico costi 2025'!$H$29:$H$68,"TF",'Elenco analitico costi 2025'!$J$29:$J$68) -> 0 | H16: =SUM(F16:G16) -> 0
B17: Imponibile e IVA su fatture emesse dal Gestore/Gestori | E17: =SUM(C17:D17) -> 0 | H17: =SUM(F17:G17) -> 0
B18: Totale IVA | C18: =+C16+C17 -> 0 | D18: =+D16+D17 -> 0 | E18: =+E16+E17 -> 0 | F18: =+F16+F17 -> 0 | G18: =+G16+G17 -> 0 | H18: =+H16+H17 -> 0

Sheet IN_COexp-RC-T
B1: Dati di input: COSTI PREVISIONALI DI GESTIONE e DETRAZIONI - ANNI 2026/29
B3: Costi previsionali
C5: 2026 | D5: 2027 | E5: 2028 | F5: 2029
B6: Costi previsionali parte variabile | C6: =+IN_Anagrafica!D6 -> Bagaladi | D6: =+C6 -> Bagaladi | E6: =+D6 -> Bagaladi | F6: =+E6 -> Bagaladi
B7: CTS∆exp,TV,a
B8: COexp,116,TV,a
B9: CQexp,TV,a
B10: COANTTV,a
B11: COnewexp,TV,a
B12: COIexp,TV,a
C14: =+C5 -> 2026 | D14: =+D5 -> 2027 | E14: =+E5 -> 2028 | F14: =+F5 -> 2029
B15: Costi previsionali parte fissa | C15: =+C6 -> Bagaladi | D15: =+D6 -> Bagaladi | E15: =+E6 -> Bagaladi | F15: =+F6 -> Bagaladi
B16: COexp,116,TF,a
B17: CQexp,TF,a
B18: COANT,TF,a
B19: CONEW,exp,TF,a
B20: COIexp,TF,a
B64: Detrazioni da Det. 2/DRIF/2021 comma 1.4 (MIUR/Evasione/Agevolazioni/Riduzioni)
C66: 2024 | D66: 2025
B67: Detrazioni come da Det. 2/DRIF/2021 comma 1.4 - PARTE VARIABILE | C67: =+C73+C74+C75+C76 -> 0 | D67: =+E73+E74+E75+E76 -> 0
B68: Detrazioni come da Det. 2/DRIF/2021 comma 1.4 - PARTE FISSA | C68: =+D73+D74+D75+D76 -> 0 | D68: =+F73+F74+F75+F76 -> 0
B69: Detrazioni come da Det. 2/DRIF/2021 comma 1.4 - TOTALE | C69: =SUM(C67:C68) -> 0 | D69: =SUM(D67:D68) -> 0
C71: Anno 2024 | E71: Anno 2025
B72: Detrazioni come da Det. 2/DRIF/2021 comma 1.4 - TOTALE | C72: Parte Variabile | D72: Parte fissa | E72: Parte Variabile | F72: Parte fissa
B73: Contributo MIUR percepito ai sensi del DL 248/07
B74: Entrate provenienti da attività di recupero dell’evasione
B75: Entrate derivanti da procedure sanzionatorie
B76: Ulteriori entrate approvate dall'ETC
B81: Costi per attività esterne al ciclo integrato dei RU di cui al comma 7.5 del MTR-3
C83: 2026 | D83: 2027
B84: Attività esterne ciclo integrato RU | C84: =+IN_Anagrafica!$D$12 -> Bagaladi | D84: =+C84 -> Bagaladi
B85: Costi per attività esterne al ciclo integrato dei RU di cui al comma 7.5 del MTR-3
B89: Componenti previsionali (COI, Conew)
B91: In caso di necessità di valorizzazione delle componenti previsionali COI o Conew si prega di contattare i consulenti della società Paragon Business Advisors
A96: \

Sheet R1
B2: Calcolo Macro-indicatore R1 - Flussi a sistemi di compliance Dati 2024 | J2: =IN_Anagrafica!$D$6 -> Bagaladi
B4: Cessione delle deleghe a soggetti terzi ? | C4: NO | D4: =IF(C4="NO","Contesto A","Contesto B") -> Contesto A | J4: R1 | K4: Valore | L4: Classe | M4: Obiettivo | AK4: Intervalli R1 | AL4: Intervalli R1 | AM4: Obiettivo annuale di maggiorazione | AN4: Classe
K5: =IFERROR(M7*M9,"") | L5: {=IFERROR(IF(K5<>"",INDEX($AN$5:$AN$13,MATCH(1,(K5>=$AK$5:$AK$13)*(K5<$AL$5:$AL$13),0)),0),)} -> 0 | M5: =+IFERROR(MIN(K5+INDEX($AM$5:$AM$13,MATCH(L5,$AN$5:$AN$13,0))+INDEX($AM$5:$AM$13,MATCH(L5,$AN$5:$AN$13,0)),0.85),"errore") -> errore | AK5: 0.85 | AL5: 2 | AM5: 0 | AN5: A
B6: % FMS | C6: 0.6 | AK6: 0.75 | AL6: 0.85 | AM6: 0.015 | AN6: B
J7: EffRD_sc | K7: Qconf_sc | L7: =K42-IF($C$4="SI",0,K26) -> 0 | M7: =IFERROR(L7/L8,"") | AK7: 0.65 | AL7: 0.75 | AM7: 0.02 | AN7: C
K8: QRD_sc | L8: =J42 -> 0 | AK8: 0.55 | AL8: 0.65 | AM8: 0.025 | AN8: D
J9: QLTRD_sc | K9: ARSC,si | L9: =M42 -> 0 | M9: =IFERROR(L9/L10,"") | AK9: 0.45 | AL9: 0.55 | AM9: 0.03 | AN9: E
K10: ARmax_SC,si | L10: =L42 -> 0 | AK10: 0.35 | AL10: 0.45 | AM10: 0.035 | AN10: F
AK11: 0.25 | AL11: 0.35 | AM11: 0.04 | AN11: G
G12: Tipo di raccolta | H12: Frazione di rifiuto | I12: Prezzo massimo | J12: EffRD_sc | L12: QLTRD_sc | AK12: 0.15 | AL12: 0.25 | AM12: 0.045 | AN12: H
J13: QRD_sc | K13: Qconf_sc | L13: ARmax_SC,si | M13: ARSC,si | AK13: 0 | AL13: 0.15 | AM13: 0.05 | AN13: I
I14: Euro/ton | J14: Tonnellate | K14: Tonnellate | L14: Euro | M14: Euro
G15: Raccolta multimateriale | H15: Plastica Flusso A (EER 150102) | I15: 362.92 | L15: =(K15+IFERROR(IF($C$4="NO",0,K26*(K15/SUM(K15:K25))),0))*I15 -> 0
H16: Plastica Flusso B (EER 150102) | I16: 95.81 | L16: =(K16+IFERROR(IF($C$4="NO",0,K26*(K16/SUM(K15:K25))),0))*I16 -> 0
H17: Plastica Flusso C (EER 150102) | I17: 471.91 | L17: =(K17+IFERROR(IF($C$4="NO",0,K26*(K17/SUM(K15:K25))),0))*I17 -> 0
H18: Plastica Flusso D (EER 150102) | I18: 353.34 | L18: =(K18+IFERROR(IF($C$4="NO",0,K26*(K18/SUM(K15:K25))),0))*I18 -> 0
H19: Flusso C-RPET (EER 150102) | I19: 490.79 | L19: =(K19+IFERROR(IF($C$4="NO",0,K26*(K19/SUM(K15:K25))),0))*I19 -> 0
H20: Alluminio Raccolte A+ (EER 150104) | I20: 479.11 | L20: =(K20+IFERROR(IF($C$4="NO",0,K26*(K20/SUM(K15:K25))),0))*I20 -> 0
H21: Alluminio da impianti cernita (I fascia)(EER 191212) | I21: 206.49 | L21: =(K21+IFERROR(IF($C$4="NO",0,K26*(K21/SUM(K15:K25))),0))*I21 -> 0
H22: Acciaio (EER 150104) | I22: 158.63 | L22: =(K22+IFERROR(IF($C$4="NO",0,K26*(K22/SUM(K15:K25))),0))*I22 -> 0
H23: Cartone tetrapack (EER 150101) | I23: 145.42 | L23: =(K23+IFERROR(IF($C$4="NO",0,K26*(K23/SUM(K15:K25))),0))*I23 -> 0
H24: Carta (EER 200101) | I24: =145.42*(1-$C$6) -> 58.168 | L24: =(K24+IFERROR(IF($C$4="NO",0,K26*(K24/SUM(K15:K25))),0))*I24 -> 0
H25: Vetro | I25: 82.85 | L25: =(K25+IFERROR(IF($C$4="NO",0,K26*(K25/SUM(K15:K25))),0))*I25 -> 0
H26: =IF($C$4="SI","Scarti (si conferiscono anche gli scarti)","Scarti (non si conferiscono gli scarti)") -> Scarti (non si conferiscono gli scarti) | L26: =K26*I26 -> 0
G27: Raccolta monomateriale | H27: Carta Congiunta (EER 200101) | I27: =145.42*(1-$C$6) -> 58.168 | L27: =K27*I27 -> 0
H28: Carta selettiva (EER 150101) | I28: 145.42 | L28: =K28*I28 -> 0
H29: Plastica Flusso A (EER 150102) | I29: 362.92 | L29: =K29*I29 -> 0
H30: Plastica Flusso B (EER 150102) | I30: 95.81 | L30: =K30*I30 -> 0
H31: Plastica Flusso C (EER 150102) | I31: 471.91 | L31: =K31*I31 -> 0
H32: Plastica Flusso D (EER 150102) | I32: 353.34 | L32: =K32*I32 -> 0
H33: Flusso C-RPET (EER 150102) | I33: 490.79 | L33: =K33*I33 -> 0
H34: Plastica biodegradabile e compostabile | I34: 147.86 | L34: =K34*I34 -> 0
H35: Alluminio Raccolte A+ (EER 150104) | I35: 479.11 | L35: =K35*I35 -> 0
H36: Alluminio da ritiro tappi (EER 150104) | I36: 154.87 | L36: =K36*I36 -> 0
H37: Alluminio da impianti cernita A (EER 191212) | I37: 206.49 | L37: =K37*I37 -> 0
H38: Acciaio (EER 150104) | I38: 158.63 | L38: =K38*I38 -> 0
H39: Vetro | I39: 82.85 | L39: =K39*I39 -> 0
H40: Legno (EER 150103) | I40: 0 | L40: =K40*I40 -> 0
G41: Ricavi accessori ulteriori vetro carta e pastica (Trasporto e pressatura) | L41: =M41 -> 0
G42: Totale | J42: =SUM(J15:J40) -> 0 | K42: =SUM(K15:K40) -> 0 | L42: =SUM(L15:L41) -> 0 | M42: =SUM(M15:M41) -> 0

Sheet R2
C2: Calcolo Macro-indicatore R2 - Flussi frazione umida (EER 200108) Dati 2024
C4: =IN_Anagrafica!$D$6 -> Bagaladi | P4: 0.7 | Q4: 0.75 | R4: 0.04 | S4: F
P5: 0 | Q5: 0.7 | R5: 0.05 | S5: G
C6: R2 | E6: Valore | F6: Classe | G6: Obiettivo
E7: =IFERROR(G9*G11,"") | F7: {=IFERROR(INDEX(S4:S5,MATCH(1,(E$7>=P4:P5)*(E$7<Q4:Q5),0)),0)} -> 0 | G7: =+IFERROR(MIN(E7+INDEX(R4:R5,MATCH(F7,S4:S5,0))+INDEX(R4:R5,MATCH(F7,S4:S5,0)),0.95),"errore") -> errore
C9: Avv_ricRD_FO,FU | D9: (1) Qavv_ricRD_FO,FU | E9: Tonnellate | G9: =IFERROR(F9/F10,"")
D10: (2) QRD_FO,FU | E10: Tonnellate
C11: QLTRD_FO | D11: (3) Incidenza della del materiale non compatibile | E11: % | G11: =IFERROR(1-F11/F12,"")
D12: (4) N. analisi merceologiche | E12: N
C14: (1) = quantità di frazione umida, espressa in tonnellate, al netto dei rifiuti di imballaggio in plastica biodegradabile e compostabile soggetti agli obblighi di responsabilità estesa del produttore, avviata agli impianti di compostaggio/digestione anaerobica, ivi inclusi quelli misti
C15: (2) = quantità di frazione umida raccolta nell’anno a, al netto dei rifiuti di imballaggio in plastica biodegradabile e compostabile soggetti agli obblighi di responsabilità estesa del produttore, espressa in tonnellate, come misurata a valle di eventuali processi di essicazione.
C16: (3) = Incidenza di materiale non compatibile (frazione estranea) in ingresso all'impianto come riportato in sede di fatturazione dal gestore dell’impianto di compostaggio/digestione anaerobica, ivi incluso quello misto
C17: (4) = numero delle analisi merceologiche effettuate sul materiale conferito dal gestore della raccolta e trasporto.

Sheet H
C2: Foglio di INPUT: Calcolo indicatore H - Dati 2024
C5: =IN_Anagrafica!$D$6 -> Bagaladi
C7: (1) qRD_si | D7: Tonnellate | E7: ='R1'!J42 -> 0 | G7: (1) = qRD_si, quota di rifiuti di imballaggio sul totale dei rifiuti urbani raccolti in modo differenziato
C8: (2) ARsi | D8: Euro | G8: (2) = ARsi Ricavi solo imballaggi.
C9: (3) ARSC_si | D9: Euro | E9: ='R1'!M42 -> 0 | G9: (3) = AR SC_si Ricavi solo imballaggi sistemi di compliance
C10: (4) CRDSC_si | D10: Euro | G10: (4) = CRD SC_si Quota dei costi operativi di raccolta, trasporto e pretrattamento delle frazioni differenziate relative agli imballaggi

Sheet OUTPUT - DA NON COMPILARE >

